BEGIN:VCALENDAR
VERSION:2.0
PRODID:-//UFE Espagne - ECPv6.15.16//NONSGML v1.0//EN
CALSCALE:GREGORIAN
METHOD:PUBLISH
X-WR-CALNAME:UFE Espagne
X-ORIGINAL-URL:https://ufe-espagne.com
X-WR-CALDESC:Évènements pour UFE Espagne
REFRESH-INTERVAL;VALUE=DURATION:PT1H
X-Robots-Tag:noindex
X-PUBLISHED-TTL:PT1H
BEGIN:VTIMEZONE
TZID:Europe/Madrid
BEGIN:DAYLIGHT
TZOFFSETFROM:+0100
TZOFFSETTO:+0200
TZNAME:CEST
DTSTART:20250330T010000
END:DAYLIGHT
BEGIN:STANDARD
TZOFFSETFROM:+0200
TZOFFSETTO:+0100
TZNAME:CET
DTSTART:20251026T010000
END:STANDARD
BEGIN:DAYLIGHT
TZOFFSETFROM:+0100
TZOFFSETTO:+0200
TZNAME:CEST
DTSTART:20260329T010000
END:DAYLIGHT
BEGIN:STANDARD
TZOFFSETFROM:+0200
TZOFFSETTO:+0100
TZNAME:CET
DTSTART:20261025T010000
END:STANDARD
BEGIN:DAYLIGHT
TZOFFSETFROM:+0100
TZOFFSETTO:+0200
TZNAME:CEST
DTSTART:20270328T010000
END:DAYLIGHT
BEGIN:STANDARD
TZOFFSETFROM:+0200
TZOFFSETTO:+0100
TZNAME:CET
DTSTART:20271031T010000
END:STANDARD
END:VTIMEZONE
BEGIN:VEVENT
DTSTART;VALUE=DATE:20260221
DTEND;VALUE=DATE:20260223
DTSTAMP:20260424T031628
CREATED:20260119T154747Z
LAST-MODIFIED:20260123T131839Z
UID:6560-1771632000-1771804799@ufe-espagne.com
SUMMARY:Balade à Gredos avec nuit
DESCRIPTION:Samedi 21 et dimanche 22 février: Balade à Gredos avec nuit
URL:https://ufe-espagne.com/event/balade-a-gredos-avec-nuit/
CATEGORIES:Sport et Nature
ATTACH;FMTTYPE=image/jpeg:https://ufe-espagne.com/wp-content/uploads/2026/01/Circo-de-Gredos-UFE-Espagne.jpg
ORGANIZER;CN="UFE Espagne":MAILTO:info@ufe-espagne.com
END:VEVENT
BEGIN:VEVENT
DTSTART;VALUE=DATE:20260222
DTEND;VALUE=DATE:20260223
DTSTAMP:20260424T031628
CREATED:20251230T120839Z
LAST-MODIFIED:20260119T161351Z
UID:6543-1771718400-1771804799@ufe-espagne.com
SUMMARY:Tournoi de Rugby des 6 Nations télévisé - Italie
DESCRIPTION:Tournoi de Rugby des 6 Nations télévisé\nRencontres de l’équipe de France contre les équipes : \n\nIrlande Jeudi 5 février\nPays de Galles Dimanche 15 février\nItalie Dimanche 22 février\nÉcosse Samedi 7 mars\nAngleterre Samedi 14 mars
URL:https://ufe-espagne.com/event/tournoi-de-rugby-des-6-nations-televise-italie/
CATEGORIES:Sport et Nature
ATTACH;FMTTYPE=image/jpeg:https://ufe-espagne.com/wp-content/uploads/2015/09/training_img.jpg
END:VEVENT
END:VCALENDAR