BEGIN:VCALENDAR
VERSION:2.0
PRODID:-//UFE Espagne - ECPv6.15.16//NONSGML v1.0//EN
CALSCALE:GREGORIAN
METHOD:PUBLISH
X-WR-CALNAME:UFE Espagne
X-ORIGINAL-URL:https://ufe-espagne.com
X-WR-CALDESC:Évènements pour UFE Espagne
REFRESH-INTERVAL;VALUE=DURATION:PT1H
X-Robots-Tag:noindex
X-PUBLISHED-TTL:PT1H
BEGIN:VTIMEZONE
TZID:Europe/Madrid
BEGIN:DAYLIGHT
TZOFFSETFROM:+0100
TZOFFSETTO:+0200
TZNAME:CEST
DTSTART:20250330T010000
END:DAYLIGHT
BEGIN:STANDARD
TZOFFSETFROM:+0200
TZOFFSETTO:+0100
TZNAME:CET
DTSTART:20251026T010000
END:STANDARD
BEGIN:DAYLIGHT
TZOFFSETFROM:+0100
TZOFFSETTO:+0200
TZNAME:CEST
DTSTART:20260329T010000
END:DAYLIGHT
BEGIN:STANDARD
TZOFFSETFROM:+0200
TZOFFSETTO:+0100
TZNAME:CET
DTSTART:20261025T010000
END:STANDARD
BEGIN:DAYLIGHT
TZOFFSETFROM:+0100
TZOFFSETTO:+0200
TZNAME:CEST
DTSTART:20270328T010000
END:DAYLIGHT
BEGIN:STANDARD
TZOFFSETFROM:+0200
TZOFFSETTO:+0100
TZNAME:CET
DTSTART:20271031T010000
END:STANDARD
END:VTIMEZONE
BEGIN:VEVENT
DTSTART;VALUE=DATE:20260328
DTEND;VALUE=DATE:20260329
DTSTAMP:20260421T184904
CREATED:20260119T155601Z
LAST-MODIFIED:20260123T131028Z
UID:6570-1774656000-1774742399@ufe-espagne.com
SUMMARY:Self défense ou cours de premier secours de Samur
DESCRIPTION:Samedi 28 mars: Self défense ou cours de premier secours de Samur
URL:https://ufe-espagne.com/event/self-defense-ou-cours-de-premier-secours-de-samur/
CATEGORIES:Autres événements,Sport et Nature
ATTACH;FMTTYPE=image/jpeg:https://ufe-espagne.com/wp-content/uploads/2026/01/side-view-people-training-gym-scaled.jpg
ORGANIZER;CN="UFE Espagne":MAILTO:info@ufe-espagne.com
END:VEVENT
END:VCALENDAR